BEGIN:VCALENDAR
VERSION:2.0
PRODID:-//ChamberMaster//Event Calendar 2.0//EN
METHOD:PUBLISH
X-PUBLISHED-TTL:P3D
REFRESH-INTERVAL:P3D
CALSCALE:GREGORIAN
BEGIN:VEVENT
DTSTART:20260502T140000Z
DTEND:20260502T170000Z
X-MICROSOFT-CDO-ALLDAYEVENT:FALSE
SUMMARY:Silent Saturday - A Half-Day Silent Retreat
DESCRIPTION:Silent Saturday - A Half-Day Silent Retreat with Meditation Teacher\, Keith Conner. At this half-day retreat\, disconnect from the noise and distractions of your daily life and settle into an experience of inner stillness and peace. Enjoy three guided meditations and quiet contemplation between sessions. This retreat is suitable for all levels of interest and experience. Everyone is welcome!
X-ALT-DESC;FMTTYPE=text/html:Silent Saturday - A Half-Day Silent Retreat with Meditation Teacher\, Keith Conner. At this half-day retreat\, disconnect from the noise and distractions of your daily life and settle into an experience of inner stillness and peace. Enjoy three guided meditations and quiet contemplation between sessions. This retreat is suitable for all levels of interest and experience. Everyone is welcome!
LOCATION:Kadampa Meditation Center Tampa Bay\, 201 6th Ave South\, Safety Harbor\, FL\, 34695
UID:e.2494.16928
SEQUENCE:3
DTSTAMP:20260422T225229Z
URL:http://members.safetyharborchamber.com/events/details/silent-saturday-a-half-day-silent-retreat-16928
END:VEVENT

END:VCALENDAR
